BEGIN:VCALENDAR
PRODID:-//Mozilla.org/NONSGML Mozilla Calendar V1.1//EN
VERSION:2.0
BEGIN:VTIMEZONE
TZID:Europe/Paris
X-TZINFO:Europe/Paris[2025a]
BEGIN:STANDARD
TZOFFSETTO:+000000
TZOFFSETFROM:+000921
TZNAME:Europe/Paris(STD)
DTSTART:19110311T000000
RDATE:19110311T000000
END:STANDARD
BEGIN:DAYLIGHT
TZOFFSETTO:+010000
TZOFFSETFROM:+000000
TZNAME:Europe/Paris(DST)
DTSTART:19160614T230000
RDATE:19160614T230000
END:DAYLIGHT
BEGIN:STANDARD
TZOFFSETTO:+000000
TZOFFSETFROM:+010000
TZNAME:Europe/Paris(STD)
DTSTART:19161002T000000
RDATE:19161002T000000
END:STANDARD
BEGIN:DAYLIGHT
TZOFFSETTO:+010000
TZOFFSETFROM:+000000
TZNAME:Europe/Paris(DST)
DTSTART:19170324T230000
RDATE:19170324T230000
END:DAYLIGHT
BEGIN:STANDARD
TZOFFSETTO:+000000
TZOFFSETFROM:+010000
TZNAME:Europe/Paris(STD)
DTSTART:19171008T000000
RDATE:19171008T000000
END:STANDARD
BEGIN:DAYLIGHT
TZOFFSETTO:+010000
TZOFFSETFROM:+000000
TZNAME:Europe/Paris(DST)
DTSTART:19180309T230000
RDATE:19180309T230000
END:DAYLIGHT
BEGIN:DAYLIGHT
TZOFFSETTO:+010000
TZOFFSETFROM:+000000
TZNAME:Europe/Paris(DST)
DTSTART:19190301T230000
RDATE:19190301T230000
END:DAYLIGHT
BEGIN:STANDARD
TZOFFSETTO:+000000
TZOFFSETFROM:+010000
TZNAME:Europe/Paris(STD)
DTSTART:19181007T000000
RRULE:FREQ=YEARLY;BYMONTH=10;BYDAY=1MO;UNTIL=19191006T000000
END:STANDARD
BEGIN:DAYLIGHT
TZOFFSETTO:+010000
TZOFFSETFROM:+000000
TZNAME:Europe/Paris(DST)
DTSTART:19200214T230000
RDATE:19200214T230000
END:DAYLIGHT
BEGIN:STANDARD
TZOFFSETTO:+000000
TZOFFSETFROM:+010000
TZNAME:Europe/Paris(STD)
DTSTART:19201024T000000
RDATE:19201024T000000
END:STANDARD
BEGIN:DAYLIGHT
TZOFFSETTO:+010000
TZOFFSETFROM:+000000
TZNAME:Europe/Paris(DST)
DTSTART:19210314T230000
RDATE:19210314T230000
END:DAYLIGHT
BEGIN:STANDARD
TZOFFSETTO:+000000
TZOFFSETFROM:+010000
TZNAME:Europe/Paris(STD)
DTSTART:19211026T000000
RDATE:19211026T000000
END:STANDARD
BEGIN:DAYLIGHT
TZOFFSETTO:+010000
TZOFFSETFROM:+000000
TZNAME:Europe/Paris(DST)
DTSTART:19220325T230000
RDATE:19220325T230000
END:DAYLIGHT
BEGIN:STANDARD
TZOFFSETTO:+000000
TZOFFSETFROM:+010000
TZNAME:Europe/Paris(STD)
DTSTART:19221008T000000
RDATE:19221008T000000
END:STANDARD
BEGIN:DAYLIGHT
TZOFFSETTO:+010000
TZOFFSETFROM:+000000
TZNAME:Europe/Paris(DST)
DTSTART:19230526T230000
RDATE:19230526T230000
END:DAYLIGHT
BEGIN:DAYLIGHT
TZOFFSETTO:+010000
TZOFFSETFROM:+000000
TZNAME:Europe/Paris(DST)
DTSTART:19240329T230000
RDATE:19240329T230000
END:DAYLIGHT
BEGIN:DAYLIGHT
TZOFFSETTO:+010000
TZOFFSETFROM:+000000
TZNAME:Europe/Paris(DST)
DTSTART:19250404T230000
RDATE:19250404T230000
END:DAYLIGHT
BEGIN:DAYLIGHT
TZOFFSETTO:+010000
TZOFFSETFROM:+000000
TZNAME:Europe/Paris(DST)
DTSTART:19260417T230000
RDATE:19260417T230000
END:DAYLIGHT
BEGIN:DAYLIGHT
TZOFFSETTO:+010000
TZOFFSETFROM:+000000
TZNAME:Europe/Paris(DST)
DTSTART:19270409T230000
RRULE:FREQ=YEARLY;BYMONTH=4;BYDAY=2SA;UNTIL=19280414T230000
END:DAYLIGHT
BEGIN:DAYLIGHT
TZOFFSETTO:+010000
TZOFFSETFROM:+000000
TZNAME:Europe/Paris(DST)
DTSTART:19290420T230000
RDATE:19290420T230000
END:DAYLIGHT
BEGIN:DAYLIGHT
TZOFFSETTO:+010000
TZOFFSETFROM:+000000
TZNAME:Europe/Paris(DST)
DTSTART:19300412T230000
RDATE:19300412T230000
END:DAYLIGHT
BEGIN:DAYLIGHT
TZOFFSETTO:+010000
TZOFFSETFROM:+000000
TZNAME:Europe/Paris(DST)
DTSTART:19310418T230000
RDATE:19310418T230000
END:DAYLIGHT
BEGIN:DAYLIGHT
TZOFFSETTO:+010000
TZOFFSETFROM:+000000
TZNAME:Europe/Paris(DST)
DTSTART:19320402T230000
RDATE:19320402T230000
END:DAYLIGHT
BEGIN:STANDARD
TZOFFSETTO:+000000
TZOFFSETFROM:+010000
TZNAME:Europe/Paris(STD)
DTSTART:19231007T000000
RRULE:FREQ=YEARLY;BYMONTH=10;BYDAY=1SU;UNTIL=19321002T000000
END:STANDARD
BEGIN:DAYLIGHT
TZOFFSETTO:+010000
TZOFFSETFROM:+000000
TZNAME:Europe/Paris(DST)
DTSTART:19330325T230000
RDATE:19330325T230000
END:DAYLIGHT
BEGIN:STANDARD
TZOFFSETTO:+000000
TZOFFSETFROM:+010000
TZNAME:Europe/Paris(STD)
DTSTART:19331008T000000
RDATE:19331008T000000
END:STANDARD
BEGIN:DAYLIGHT
TZOFFSETTO:+010000
TZOFFSETFROM:+000000
TZNAME:Europe/Paris(DST)
DTSTART:19340407T230000
RDATE:19340407T230000
END:DAYLIGHT
BEGIN:DAYLIGHT
TZOFFSETTO:+010000
TZOFFSETFROM:+000000
TZNAME:Europe/Paris(DST)
DTSTART:19350330T230000
RDATE:19350330T230000
END:DAYLIGHT
BEGIN:DAYLIGHT
TZOFFSETTO:+010000
TZOFFSETFROM:+000000
TZNAME:Europe/Paris(DST)
DTSTART:19360418T230000
RDATE:19360418T230000
END:DAYLIGHT
BEGIN:DAYLIGHT
TZOFFSETTO:+010000
TZOFFSETFROM:+000000
TZNAME:Europe/Paris(DST)
DTSTART:19370403T230000
RDATE:19370403T230000
END:DAYLIGHT
BEGIN:DAYLIGHT
TZOFFSETTO:+010000
TZOFFSETFROM:+000000
TZNAME:Europe/Paris(DST)
DTSTART:19380326T230000
RDATE:19380326T230000
END:DAYLIGHT
BEGIN:STANDARD
TZOFFSETTO:+000000
TZOFFSETFROM:+010000
TZNAME:Europe/Paris(STD)
DTSTART:19341007T000000
RRULE:FREQ=YEARLY;BYMONTH=10;BYDAY=1SU;UNTIL=19381002T000000
END:STANDARD
BEGIN:DAYLIGHT
TZOFFSETTO:+010000
TZOFFSETFROM:+000000
TZNAME:Europe/Paris(DST)
DTSTART:19390415T230000
RDATE:19390415T230000
END:DAYLIGHT
BEGIN:DAYLIGHT
TZOFFSETTO:+010000
TZOFFSETFROM:+000000
TZNAME:Europe/Paris(DST)
DTSTART:19400225T020000
RDATE:19400225T020000
END:DAYLIGHT
BEGIN:STANDARD
TZOFFSETTO:+000000
TZOFFSETFROM:+010000
TZNAME:Europe/Paris(STD)
DTSTART:19391119T000000
RDATE:19391119T000000
END:STANDARD
BEGIN:DAYLIGHT
TZOFFSETTO:+020000
TZOFFSETFROM:+010000
TZNAME:Europe/Paris(DST)
DTSTART:19400614T230000
RDATE:19400614T230000
END:DAYLIGHT
BEGIN:STANDARD
TZOFFSETTO:+010000
TZOFFSETFROM:+020000
TZNAME:Europe/Paris(STD)
DTSTART:19421102T030000
RDATE:19421102T030000
END:STANDARD
BEGIN:DAYLIGHT
TZOFFSETTO:+020000
TZOFFSETFROM:+010000
TZNAME:Europe/Paris(DST)
DTSTART:19430329T020000
RDATE:19430329T020000
END:DAYLIGHT
BEGIN:DAYLIGHT
TZOFFSETTO:+020000
TZOFFSETFROM:+010000
TZNAME:Europe/Paris(DST)
DTSTART:19440403T020000
RDATE:19440403T020000
END:DAYLIGHT
BEGIN:DAYLIGHT
TZOFFSETTO:+020000
TZOFFSETFROM:+020000
TZNAME:Europe/Paris(DST)
DTSTART:19440825T000000
RDATE:19440825T000000
END:DAYLIGHT
BEGIN:DAYLIGHT
TZOFFSETTO:+010000
TZOFFSETFROM:+020000
TZNAME:Europe/Paris(DST)
DTSTART:19441008T010000
RDATE:19441008T010000
END:DAYLIGHT
BEGIN:STANDARD
TZOFFSETTO:+010000
TZOFFSETFROM:+020000
TZNAME:Europe/Paris(STD)
DTSTART:19431004T030000
RDATE:19431004T030000
END:STANDARD
BEGIN:DAYLIGHT
TZOFFSETTO:+020000
TZOFFSETFROM:+010000
TZNAME:Europe/Paris(DST)
DTSTART:19450402T020000
RDATE:19450402T020000
END:DAYLIGHT
BEGIN:STANDARD
TZOFFSETTO:+010000
TZOFFSETFROM:+020000
TZNAME:Europe/Paris(STD)
DTSTART:19450916T030000
RDATE:19450916T030000
END:STANDARD
BEGIN:DAYLIGHT
TZOFFSETTO:+020000
TZOFFSETFROM:+010000
TZNAME:Europe/Paris(DST)
DTSTART:19760328T010000
RDATE:19760328T010000
END:DAYLIGHT
BEGIN:STANDARD
TZOFFSETTO:+010000
TZOFFSETFROM:+020000
TZNAME:Europe/Paris(STD)
DTSTART:19760926T010000
RDATE:19760926T010000
END:STANDARD
BEGIN:STANDARD
TZOFFSETTO:+010000
TZOFFSETFROM:+020000
TZNAME:Europe/Paris(STD)
DTSTART:19770925T030000
RDATE:19770925T030000
END:STANDARD
BEGIN:STANDARD
TZOFFSETTO:+010000
TZOFFSETFROM:+020000
TZNAME:Europe/Paris(STD)
DTSTART:19781001T030000
RDATE:19781001T030000
END:STANDARD
BEGIN:DAYLIGHT
TZOFFSETTO:+020000
TZOFFSETFROM:+010000
TZNAME:Europe/Paris(DST)
DTSTART:19770403T020000
RRULE:FREQ=YEARLY;BYMONTH=4;BYDAY=1SU;UNTIL=19800406T020000
END:DAYLIGHT
BEGIN:STANDARD
TZOFFSETTO:+010000
TZOFFSETFROM:+020000
TZNAME:Europe/Paris(STD)
DTSTART:19790930T030000
RRULE:FREQ=YEARLY;BYMONTH=9;BYDAY=-1SU;UNTIL=19950924T030000
END:STANDARD
BEGIN:DAYLIGHT
TZOFFSETTO:+020000
TZOFFSETFROM:+010000
TZNAME:Europe/Paris(DST)
DTSTART:19810329T020000
RRULE:FREQ=YEARLY;BYMONTH=3;BYDAY=-1SU;UNTIL=19960331T020000
END:DAYLIGHT
BEGIN:STANDARD
TZOFFSETTO:+010000
TZOFFSETFROM:+020000
TZNAME:Europe/Paris(STD)
DTSTART:19961027T030000
RDATE:19961027T030000
END:STANDARD
BEGIN:DAYLIGHT
TZOFFSETTO:+020000
TZOFFSETFROM:+010000
TZNAME:(DST)
DTSTART:19970330T020000
RRULE:FREQ=YEARLY;BYMONTH=3;BYDAY=-1SU
END:DAYLIGHT
BEGIN:STANDARD
TZOFFSETTO:+010000
TZOFFSETFROM:+020000
TZNAME:(STD)
DTSTART:19971026T030000
RRULE:FREQ=YEARLY;BYMONTH=10;BYDAY=-1SU
END:STANDARD
END:VTIMEZONE
BEGIN:VEVENT
CREATED:20250916T091254Z
LAST-MODIFIED:20250916T091625Z
DTSTAMP:20250916T091625Z
UID:d24f256f-5f31-4ebe-85a3-f81f29c67cc5
SUMMARY:[Doctorat Pays de la Loire] Webinaire de rentrée 2025-2026 / PhD W
 ebinar 2025-2026
DTSTART;TZID=Europe/Paris:20250929T103000
DTEND;TZID=Europe/Paris:20250929T120000
TRANSP:OPAQUE
LOCATION:https://univ-nantes-fr.zoom.us/j/81096528961?pwd=W10xFcmpamLXqbVvm
 0QlU40wBW5Xf9.1
DESCRIPTION;ALTREP="data:text/html,%3Cb%3Ehttps%3A%2F%2Funiv-nantes-fr.zoom
 .us%2Fj%2F81096528961%3Fpwd%3DW10xFcmpamLXqbVvm0QlU40wBW5Xf9.1%3C%2Fb%3E%3C
 br%3EID%20de%20r%C3%A9union%3A%20810%209652%208961%3Cbr%3ECode%20secret%3A%
 20196270%3Cbr%3E%3Cbr%3E%3Ci%3E%5BEnglish%20below%5D%3C%2Fi%3E%3Cbr%3E%3Ci%
 3EDestinataires%20%3A%20Doctorantes%20et%20doctorants%20en%202%C3%A8me%20an
 n%C3%A9e%20et%20plus%2C%20inscrit%C2%B7es%20dans%20les%20%C3%A9coles%20doct
 orales%20en%20Pays%20de%20la%20Loire%3C%2Fi%3E%3Cbr%3E%3Cbr%3ELe%20Coll%C3%
 A8ge%20doctoral%20Pays%20de%20la%20Loire%20a%20le%20plaisir%20de%20vous%20i
 nviter%20%C3%A0%20un%20webinaire%20de%20rentr%C3%A9e%20le%20lundi%209%20sep
 tembre%202025%20de%2010h30%20%C3%A0%2012h.%3Cbr%3ECe%20webinaire%20sera%20l
 'occasion%20de%20pr%C3%A9senter%20l'organisation%20de%20la%20formation%20do
 ctorale%20en%20Pays%20de%20la%20Loire%20%3A%20vos%20interlocuteurs%2C%20les
 %20formations%20dont%20le%20catalogue%202025-2026%2C%20les%20outils%20(Amet
 his)%20et%20beaucoup%20d'autres%20points...%3Cbr%3E%3Cbr%3E***%3Cbr%3E%3Cbr
 %3E%3Ci%3ETo%3A%20Doctoral%20students%20in%20their%202nd%20year%20or%20more
 %20enrolled%20in%20the%20Pays%20de%20la%20Loire%20doctoral%20schools%3C%2Fi
 %3E%3Cbr%3E%3Cbr%3EThe%20Pays%20de%20la%20Loire%20Doctoral%20College%20is%2
 0pleased%20to%20invite%20you%20to%20a%20back-to-school%20webinar%20on%20Mon
 day%2C%20September%209th%2C%202025%20from%2010%3A30%20am%20to%2012%3A00%20a
 m.%3Cbr%3EThis%20webinar%20will%20present%20the%20organization%20of%20docto
 ral%20training%20in%20Pays%20de%20la%20Loire%3A%20your%20contacts%2C%20trai
 ning%20courses%20and%20specifically%20the%202025-2026%20catalog%2C%20tools%
 20(Amethis)%20and%20much%20more...":https://univ-nantes-fr.zoom.us/j/810965
 28961?pwd=W10xFcmpamLXqbVvm0QlU40wBW5Xf9.1\nID de réunion: 810 9652 8961\n
 Code secret: 196270\n\n[English below]\nDestinataires : Doctorantes et doct
 orants en 2ème année et plus\, inscrit·es dans les écoles doctorales en
  Pays de la Loire\n\nLe Collège doctoral Pays de la Loire a le plaisir de 
 vous inviter à un webinaire de rentrée le lundi 9 septembre 2025 de 10h30
  à 12h.\nCe webinaire sera l'occasion de présenter l'organisation de la f
 ormation doctorale en Pays de la Loire : vos interlocuteurs\, les formation
 s dont le catalogue 2025-2026\, les outils (Amethis) et beaucoup d'autres p
 oints...\n\n***\n\nTo: Doctoral students in their 2nd year or more enrolled
  in the Pays de la Loire doctoral schools\n\nThe Pays de la Loire Doctoral 
 College is pleased to invite you to a back-to-school webinar on Monday\, Se
 ptember 9th\, 2025 from 10:30 am to 12:00 am.\nThis webinar will present th
 e organization of doctoral training in Pays de la Loire: your contacts\, tr
 aining courses and specifically the 2025-2026 catalog\, tools (Amethis) and
  much more...
END:VEVENT
END:VCALENDAR
